BEGIN:VCALENDAR
VERSION:2.0
PRODID:-//Wheldrake Parish Council//Meeting Calendar//EN
CALSCALE:GREGORIAN
METHOD:PUBLISH
BEGIN:VEVENT
UID:70539-20220101@wheldrake.parishadmin.xyz
DTSTAMP:20260421T093427Z
DTSTART;VALUE=DATE:20220101
DTEND;VALUE=DATE:20220102
SUMMARY:Full Council Meetings &#8211\\; 2022
DESCRIPTION:Full Council Meeting\nView details: https://wheldrake.parishadmin.xyz/meetings/full-council-meetings-2022/
URL:https://wheldrake.parishadmin.xyz/meetings/full-council-meetings-2022/
END:VEVENT
END:VCALENDAR
