BEGIN:VCALENDAR
VERSION:2.0
PRODID:-//Wheldrake Parish Council//Meeting Calendar//EN
CALSCALE:GREGORIAN
METHOD:PUBLISH
BEGIN:VEVENT
UID:70536-20230531@wheldrake.parishadmin.xyz
DTSTAMP:20260421T094215Z
DTSTART;VALUE=DATE:20230531
DTEND;VALUE=DATE:20230601
SUMMARY:Annual Parish Meeting &#8211\\; 31 May 2023
DESCRIPTION:Annual Parish Meeting\nView details: https://wheldrake.parishadmin.xyz/meetings/annual-parish-meeting-31-may-2023/
URL:https://wheldrake.parishadmin.xyz/meetings/annual-parish-meeting-31-may-2023/
END:VEVENT
END:VCALENDAR
