BEGIN:VCALENDAR
VERSION:2.0
PRODID:-//Wheldrake Parish Council//Meeting Calendar//EN
CALSCALE:GREGORIAN
METHOD:PUBLISH
BEGIN:VEVENT
UID:70508-20230101@wheldrake.parishadmin.xyz
DTSTAMP:20260421T093335Z
DTSTART;VALUE=DATE:20230101
DTEND;VALUE=DATE:20230102
SUMMARY:Full Council Meetings &#8211\\; 2023
DESCRIPTION:Full Council Meeting\nView details: https://wheldrake.parishadmin.xyz/meetings/full-council-meetings-2023/
URL:https://wheldrake.parishadmin.xyz/meetings/full-council-meetings-2023/
END:VEVENT
END:VCALENDAR
