BEGIN:VCALENDAR
VERSION:2.0
PRODID:-//Wheldrake Parish Council//Meeting Calendar//EN
CALSCALE:GREGORIAN
METHOD:PUBLISH
BEGIN:VEVENT
UID:70501-20240529@wheldrake.parishadmin.xyz
DTSTAMP:20260421T094334Z
DTSTART;VALUE=DATE:20240529
DTEND;VALUE=DATE:20240530
SUMMARY:Annual Parish Meeting &#8211\\; 29 May 2024
DESCRIPTION:Annual Parish Meeting\nView details: https://wheldrake.parishadmin.xyz/meetings/annual-parish-meeting-29-may-2024/
URL:https://wheldrake.parishadmin.xyz/meetings/annual-parish-meeting-29-may-2024/
END:VEVENT
END:VCALENDAR
