BEGIN:VCALENDAR
VERSION:2.0
PRODID:-//Wheldrake Parish Council//Meeting Calendar//EN
CALSCALE:GREGORIAN
METHOD:PUBLISH
BEGIN:VEVENT
UID:70477-20250326@wheldrake.parishadmin.xyz
DTSTAMP:20260421T094346Z
DTSTART;VALUE=DATE:20250326
DTEND;VALUE=DATE:20250327
SUMMARY:Full Council Meeting &#8211\\; 26 March 2025
DESCRIPTION:Full Council Meeting\nView details: https://wheldrake.parishadmin.xyz/meetings/full-council-meeting-26-march-2025/
URL:https://wheldrake.parishadmin.xyz/meetings/full-council-meeting-26-march-2025/
END:VEVENT
END:VCALENDAR
